BEGIN:VCALENDAR
VERSION:2.0
PRODID:-//Historie Haderslev - ECPv6.15.20//NONSGML v1.0//EN
CALSCALE:GREGORIAN
METHOD:PUBLISH
X-ORIGINAL-URL:https://www.historiehaderslev.dk
X-WR-CALDESC:Begivenheder for Historie Haderslev
REFRESH-INTERVAL;VALUE=DURATION:PT1H
X-Robots-Tag:noindex
X-PUBLISHED-TTL:PT1H
BEGIN:VTIMEZONE
TZID:Europe/Copenhagen
BEGIN:DAYLIGHT
TZOFFSETFROM:+0100
TZOFFSETTO:+0200
TZNAME:CEST
DTSTART:20240331T010000
END:DAYLIGHT
BEGIN:STANDARD
TZOFFSETFROM:+0200
TZOFFSETTO:+0100
TZNAME:CET
DTSTART:20241027T010000
END:STANDARD
BEGIN:DAYLIGHT
TZOFFSETFROM:+0100
TZOFFSETTO:+0200
TZNAME:CEST
DTSTART:20250330T010000
END:DAYLIGHT
BEGIN:STANDARD
TZOFFSETFROM:+0200
TZOFFSETTO:+0100
TZNAME:CET
DTSTART:20251026T010000
END:STANDARD
BEGIN:DAYLIGHT
TZOFFSETFROM:+0100
TZOFFSETTO:+0200
TZNAME:CEST
DTSTART:20260329T010000
END:DAYLIGHT
BEGIN:STANDARD
TZOFFSETFROM:+0200
TZOFFSETTO:+0100
TZNAME:CET
DTSTART:20261025T010000
END:STANDARD
END:VTIMEZONE
BEGIN:VEVENT
DTSTART;TZID=Europe/Copenhagen:20251008T190000
DTEND;TZID=Europe/Copenhagen:20251008T210000
DTSTAMP:20260421T113617
CREATED:20250212T070146Z
LAST-MODIFIED:20250212T070557Z
UID:7598-1759950000-1759957200@www.historiehaderslev.dk
SUMMARY:Foredrag: Hvorfor er dansk keramik så populært?
DESCRIPTION:Kasper Nielsen\, tidligere vurderingsekspert hos Bruun Rasmussen og deltager i tv-programmer som Antikduellen giver sit bud på\, hvorfor dansk stentøj er blevet så populært. \nKasper Nielsen vil fortælle om dansk stentøj gennem tiden og forklare\, hvorfor det i de sidste 20-30 år har været så eftertragtet af både danske og udenlandske samlere. \nMed sin mangeårige erfaring fra den internationale auktionsbranche vil Kasper også dele indsigt i de bemærkelsesværdige salg\, som han har været en del af. \nHar du en skat gemt derhjemme? \nEfter foredraget vil der være mulighed for at få vurderet medbragt keramik. Så find arvestykkerne eller yndlingsvasen frem og få en vurdering af Kasper. \nForedraget arrangeres af Kulturhuset Bispen i samarbejde med Haderslev Kunstforening og Ehlers Samlingen. \nForedragsbilletten gælder som indgangsbillet til museet Ehlers Samlingen frem til og med den 21. december 2025\, så husk at gemme din billet. \nHvorfor er dansk keramik så populært? | Haderslev Bibliotekerne
URL:https://www.historiehaderslev.dk/arrangementer/foredrag-hvorfor-er-dansk-keramik-saa-populaert/
LOCATION:Kulturhuset Bispen\, Bispebroen 3\, Haderslev\, Syddanmark\, 6100\, Danmark
ATTACH;FMTTYPE=image/jpeg:https://www.historiehaderslev.dk/wp-content/uploads/2025/02/Kasper-Nielsen-arr.jpg
ORGANIZER;CN="Kulturhuset Bispen":MAILTO:jehr@haderslev.dk
END:VEVENT
END:VCALENDAR